BEGIN:VCALENDAR
VERSION:2.0
PRODID:-//Ticked Off Lyme Foundation Inc. - ECPv6.14.2//NONSGML v1.0//EN
CALSCALE:GREGORIAN
METHOD:PUBLISH
X-WR-CALNAME:Ticked Off Lyme Foundation Inc.
X-ORIGINAL-URL:https://tickedofflymefdn.com
X-WR-CALDESC:Events for Ticked Off Lyme Foundation Inc.
REFRESH-INTERVAL;VALUE=DURATION:PT1H
X-Robots-Tag:noindex
X-PUBLISHED-TTL:PT1H
BEGIN:VTIMEZONE
TZID:America/Chicago
BEGIN:DAYLIGHT
TZOFFSETFROM:-0600
TZOFFSETTO:-0500
TZNAME:CDT
DTSTART:20260308T080000
END:DAYLIGHT
BEGIN:STANDARD
TZOFFSETFROM:-0500
TZOFFSETTO:-0600
TZNAME:CST
DTSTART:20261101T070000
END:STANDARD
END:VTIMEZONE
BEGIN:VEVENT
DTSTART;TZID=America/Chicago:20260328T100000
DTEND;TZID=America/Chicago:20260328T170000
DTSTAMP:20260424T042927
CREATED:20260124T205944Z
LAST-MODIFIED:20260124T210023Z
UID:1076-1774692000-1774717200@tickedofflymefdn.com
SUMMARY:Euchre Tournament - Fundraiser
DESCRIPTION:Join us on March 28\, 2026 at the Black Squirrel Tap in Swisher\, IA for a fun day of Euchre for a GREAT cause. \nRegistration starts at 10 am\, you can pay at the door\, spot is not secured until paid. Start time 11 am. $40 per team\, lunch available for purchase\, 100% entry pay back\, bump cup rules. \nContact Kerrie at 319-321-0324 for more information. \nALL PROCEEDS GO TO THE TICKED OFF LYME FOUNDATION to help people fighting Lyme Disease right here in our own back yards.
URL:https://tickedofflymefdn.com/event/euchre-tournament-fundraiser/
LOCATION:Black Squirrel Tap\, 72 2nd St. SE\, Swisher\, IA\, 52338\, United States
ORGANIZER;CN="Ticked Off Lyme Foundaton":MAILTO:tickedofflymefoundation@outlook.com
END:VEVENT
END:VCALENDAR