BEGIN:VCALENDAR
VERSION:2.0
PRODID:-//Ticked Off Lyme Foundation Inc. - ECPv6.14.2//NONSGML v1.0//EN
CALSCALE:GREGORIAN
METHOD:PUBLISH
X-WR-CALNAME:Ticked Off Lyme Foundation Inc.
X-ORIGINAL-URL:https://tickedofflymefdn.com
X-WR-CALDESC:Events for Ticked Off Lyme Foundation Inc.
REFRESH-INTERVAL;VALUE=DURATION:PT1H
X-Robots-Tag:noindex
X-PUBLISHED-TTL:PT1H
BEGIN:VTIMEZONE
TZID:America/Chicago
BEGIN:DAYLIGHT
TZOFFSETFROM:-0600
TZOFFSETTO:-0500
TZNAME:CDT
DTSTART:20260308T080000
END:DAYLIGHT
BEGIN:STANDARD
TZOFFSETFROM:-0500
TZOFFSETTO:-0600
TZNAME:CST
DTSTART:20261101T070000
END:STANDARD
END:VTIMEZONE
BEGIN:VEVENT
DTSTART;TZID=America/Chicago:20260606T070000
DTEND;TZID=America/Chicago:20260606T110000
DTSTAMP:20260424T053928
CREATED:20260316T180020Z
LAST-MODIFIED:20260316T180020Z
UID:1109-1780729200-1780743600@tickedofflymefdn.com
SUMMARY:5K/1K for Lyme Awareness
DESCRIPTION:This is an annual event and will be TIMED. \nRegister ahead of time at: Runsignup.com/Race/IA/Fairfax/5K1KforLymeAwareness Entry fee: Adults $35 each\, Kids (2-12) $25 each. Registration includes a t-shirt. \nHeld at Fairfax City Hall 300 80th St. Ct. \nRegistration/Check in – 7:00 am \nOpening Ceremonies – 7:45 am \nRace starts – 8:00 am \nDJ\, Food Truck\, Door Prizes\, FREE Hydration shots from Sunrise Nutrition
URL:https://tickedofflymefdn.com/event/5k-1k-for-lyme-awareness/
LOCATION:Fairfax City Hall\, 300 80th St. Ct.\, Fairfax\, IA\, 52228\, United States
ORGANIZER;CN="Ticked Off Lyme Foundaton":MAILTO:tickedofflymefoundation@outlook.com
END:VEVENT
END:VCALENDAR