BEGIN:VCALENDAR
VERSION:2.0
PRODID:-//Ticked Off Lyme Foundation Inc. - ECPv6.14.2//NONSGML v1.0//EN
CALSCALE:GREGORIAN
METHOD:PUBLISH
X-WR-CALNAME:Ticked Off Lyme Foundation Inc.
X-ORIGINAL-URL:https://tickedofflymefdn.com
X-WR-CALDESC:Events for Ticked Off Lyme Foundation Inc.
REFRESH-INTERVAL;VALUE=DURATION:PT1H
X-Robots-Tag:noindex
X-PUBLISHED-TTL:PT1H
BEGIN:VTIMEZONE
TZID:America/Chicago
BEGIN:DAYLIGHT
TZOFFSETFROM:-0600
TZOFFSETTO:-0500
TZNAME:CDT
DTSTART:20260308T080000
END:DAYLIGHT
BEGIN:STANDARD
TZOFFSETFROM:-0500
TZOFFSETTO:-0600
TZNAME:CST
DTSTART:20261101T070000
END:STANDARD
END:VTIMEZONE
BEGIN:VEVENT
DTSTART;TZID=America/Chicago:20260625T160000
DTEND;TZID=America/Chicago:20260625T200000
DTSTAMP:20260424T054015
CREATED:20260125T183718Z
LAST-MODIFIED:20260125T183718Z
UID:1086-1782403200-1782417600@tickedofflymefdn.com
SUMMARY:She Sheds\, She Shops\, She Slays (evening event)
DESCRIPTION:Join us on June 25\, 2026\, at the Shed Sheds\, She Shops\, She Slays event. \nWe will be set up in a shed at 113 Williams Blvd\, Fairfax\, IA from 4-8 with information regarding Lyme Disease. We will have some swag and some painted/decorative flower pots for sale. \nThis event will have many vendors set up in sheds\, selling their own products. It is always a great time. \nWe look forward to seeing you.
URL:https://tickedofflymefdn.com/event/she-sheds-she-shops-she-slays-evening-event/
LOCATION:Buidlings on the Blvd.\, 113 Williams Blvd.\, Fairfax\, IA\, 52228\, United States
ORGANIZER;CN="Ticked Off Lyme Foundaton":MAILTO:tickedofflymefoundation@outlook.com
END:VEVENT
END:VCALENDAR