BEGIN:VCALENDAR
VERSION:2.0
PRODID:-//Ticked Off Lyme Foundation Inc. - ECPv6.14.2//NONSGML v1.0//EN
CALSCALE:GREGORIAN
METHOD:PUBLISH
X-WR-CALNAME:Ticked Off Lyme Foundation Inc.
X-ORIGINAL-URL:https://tickedofflymefdn.com
X-WR-CALDESC:Events for Ticked Off Lyme Foundation Inc.
REFRESH-INTERVAL;VALUE=DURATION:PT1H
X-Robots-Tag:noindex
X-PUBLISHED-TTL:PT1H
BEGIN:VTIMEZONE
TZID:America/Chicago
BEGIN:DAYLIGHT
TZOFFSETFROM:-0600
TZOFFSETTO:-0500
TZNAME:CDT
DTSTART:20260308T080000
END:DAYLIGHT
BEGIN:STANDARD
TZOFFSETFROM:-0500
TZOFFSETTO:-0600
TZNAME:CST
DTSTART:20261101T070000
END:STANDARD
END:VTIMEZONE
BEGIN:VEVENT
DTSTART;TZID=America/Chicago:20260625T160000
DTEND;TZID=America/Chicago:20260625T200000
DTSTAMP:20260424T070051
CREATED:20260125T183718Z
LAST-MODIFIED:20260125T183718Z
UID:1086-1782403200-1782417600@tickedofflymefdn.com
SUMMARY:She Sheds\, She Shops\, She Slays (evening event)
DESCRIPTION:Join us on June 25\, 2026\, at the Shed Sheds\, She Shops\, She Slays event. \nWe will be set up in a shed at 113 Williams Blvd\, Fairfax\, IA from 4-8 with information regarding Lyme Disease. We will have some swag and some painted/decorative flower pots for sale. \nThis event will have many vendors set up in sheds\, selling their own products. It is always a great time. \nWe look forward to seeing you.
URL:https://tickedofflymefdn.com/event/she-sheds-she-shops-she-slays-evening-event/
LOCATION:Buidlings on the Blvd.\, 113 Williams Blvd.\, Fairfax\, IA\, 52228\, United States
ORGANIZER;CN="Ticked Off Lyme Foundaton":MAILTO:tickedofflymefoundation@outlook.com
END:VEVENT
BEGIN:VEVENT
DTSTART;TZID=America/Chicago:20260711T090000
DTEND;TZID=America/Chicago:20260711T140000
DTSTAMP:20260424T070051
CREATED:20260316T180613Z
LAST-MODIFIED:20260316T180613Z
UID:1111-1783760400-1783778400@tickedofflymefdn.com
SUMMARY:Disc Drives for Lyme Lives - Disc Golf Tournament Fundraiser
DESCRIPTION:Join us for our second year of Disc Golf. This is sponsored by Titan Disc Golf in Cedar Rapids. \nRegister online now at: Discgolfscene.com \n$30 each for registration \nTwo divisions – Beginner/Advanced \nTrophy Event 1st and 2nd each division. \nShotgun – One round of play \nRegister/Check in – 9:00 am; Start time: 9:30 am \nRing of Fire and Closest to the Pin games with disc for 1st place
URL:https://tickedofflymefdn.com/event/disc-drives-for-lyme-lives-disc-golf-tournament-fundraiser/
LOCATION:Jones Park Disc Golf Course\, 201 Wilson Ave. SW\, Cedar Rapids\, IA\, 52404\, United States
ORGANIZER;CN="Ticked Off Lyme Foundaton":MAILTO:tickedofflymefoundation@outlook.com
END:VEVENT
BEGIN:VEVENT
DTSTART;TZID=America/Chicago:20260801T093000
DTEND;TZID=America/Chicago:20260801T233000
DTSTAMP:20260424T070051
CREATED:20260316T172221Z
LAST-MODIFIED:20260316T172221Z
UID:1095-1785576600-1785627000@tickedofflymefdn.com
SUMMARY:Support Group
DESCRIPTION:Join us as we have a special guest. Austin Davis owns Keystone Chiropractic in Cedar Rapids\, IA. He will be joining us and bring his Electric Stem Unit – muscle stimulator. As he works his magic on us\, he will do a presentation on how this works and what it can do to help. \nThis will be a FREE event\, but please bring a little extra cash is you can for the TIP JAR.
URL:https://tickedofflymefdn.com/event/support-group-2/
LOCATION:LADD Library\, 3750 Williams Blvd SW\, Cedar Rapids\, IA\, 52404\, United States
ORGANIZER;CN="Ticked Off Lyme Foundaton":MAILTO:tickedofflymefoundation@outlook.com
END:VEVENT
BEGIN:VEVENT
DTSTART;TZID=America/Chicago:20260808T100000
DTEND;TZID=America/Chicago:20260808T160000
DTSTAMP:20260424T070051
CREATED:20260125T183857Z
LAST-MODIFIED:20260125T183857Z
UID:1088-1786183200-1786204800@tickedofflymefdn.com
SUMMARY:August Edit - Curate Style
DESCRIPTION:Join us on August 8\, 2026\, at the August Edit – Curate Style – Shed Side Charm event. \nWe will be set up in a shed at 113 Williams Blvd\, Fairfax\, IA from 10-4 with information regarding Lyme Disease. We will have some swag and some painted/decorative flower pots for sale. \nThis event will have many vendors set up in sheds\, selling their own products. It is always a great time. \nWe look forward to seeing you.
URL:https://tickedofflymefdn.com/event/august-edit-curate-style/
LOCATION:Buidlings on the Blvd.\, 113 Williams Blvd.\, Fairfax\, IA\, 52228\, United States
ORGANIZER;CN="Ticked Off Lyme Foundaton":MAILTO:tickedofflymefoundation@outlook.com
END:VEVENT
BEGIN:VEVENT
DTSTART;TZID=America/Chicago:20260820T160000
DTEND;TZID=America/Chicago:20260820T200000
DTSTAMP:20260424T070051
CREATED:20260125T184026Z
LAST-MODIFIED:20260125T184026Z
UID:1090-1787241600-1787256000@tickedofflymefdn.com
SUMMARY:Sheds in the City (evening event)
DESCRIPTION:Join us on August 20\, 2026\, at the Sheds in the City – Fairfax Edition event. \nWe will be set up in a shed at 113 Williams Blvd\, Fairfax\, IA from 4-8with information regarding Lyme Disease. We will have some swag and some painted/decorative flower pots for sale. \nThis event will have many vendors set up in sheds\, selling their own products. It is always a great time. \nWe look forward to seeing you.
URL:https://tickedofflymefdn.com/event/sheds-in-the-city-evening-event/
LOCATION:Buidlings on the Blvd.\, 113 Williams Blvd.\, Fairfax\, IA\, 52228\, United States
ORGANIZER;CN="Ticked Off Lyme Foundaton":MAILTO:tickedofflymefoundation@outlook.com
END:VEVENT
BEGIN:VEVENT
DTSTART;TZID=America/Chicago:20261003T100000
DTEND;TZID=America/Chicago:20261003T120000
DTSTAMP:20260424T070051
CREATED:20260316T173053Z
LAST-MODIFIED:20260316T173053Z
UID:1097-1791021600-1791028800@tickedofflymefdn.com
SUMMARY:Support Group
DESCRIPTION:Join us for more excited information. \nWe will be joined by Jennifer Crystal\, the author of One Tick Stopped the Clock. Jennifer is a Lyme warrior and will share her story\, listen to yours and we will all learn from each other.
URL:https://tickedofflymefdn.com/event/support-group-3/
LOCATION:LADD Library\, 3750 Williams Blvd SW\, Cedar Rapids\, IA\, 52404\, United States
END:VEVENT
BEGIN:VEVENT
DTSTART;TZID=America/Chicago:20261205T093000
DTEND;TZID=America/Chicago:20261205T113000
DTSTAMP:20260424T070051
CREATED:20260316T173840Z
LAST-MODIFIED:20260316T173840Z
UID:1099-1796463000-1796470200@tickedofflymefdn.com
SUMMARY:Support Group
DESCRIPTION:Join us for information on Lyme\, recap of our special guest and how we felt about their journey and the information we received.
URL:https://tickedofflymefdn.com/event/support-group-4/
LOCATION:LADD Library\, 3750 Williams Blvd SW\, Cedar Rapids\, IA\, 52404\, United States
ORGANIZER;CN="Ticked Off Lyme Foundaton":MAILTO:tickedofflymefoundation@outlook.com
END:VEVENT
END:VCALENDAR