BEGIN:VCALENDAR
VERSION:2.0
PRODID:-//Ticked Off Lyme Foundation Inc. - ECPv6.14.2//NONSGML v1.0//EN
CALSCALE:GREGORIAN
METHOD:PUBLISH
X-WR-CALNAME:Ticked Off Lyme Foundation Inc.
X-ORIGINAL-URL:https://tickedofflymefdn.com
X-WR-CALDESC:Events for Ticked Off Lyme Foundation Inc.
REFRESH-INTERVAL;VALUE=DURATION:PT1H
X-Robots-Tag:noindex
X-PUBLISHED-TTL:PT1H
BEGIN:VTIMEZONE
TZID:America/Chicago
BEGIN:DAYLIGHT
TZOFFSETFROM:-0600
TZOFFSETTO:-0500
TZNAME:CDT
DTSTART:20260308T080000
END:DAYLIGHT
BEGIN:STANDARD
TZOFFSETFROM:-0500
TZOFFSETTO:-0600
TZNAME:CST
DTSTART:20261101T070000
END:STANDARD
END:VTIMEZONE
BEGIN:VEVENT
DTSTART;TZID=America/Chicago:20260321T100000
DTEND;TZID=America/Chicago:20260321T160000
DTSTAMP:20260425T101241
CREATED:20260125T183139Z
LAST-MODIFIED:20260316T174112Z
UID:1079-1774087200-1774108800@tickedofflymefdn.com
SUMMARY:Stroll the Boulevard
DESCRIPTION:Join us on March 21\, 2026\, for local finds in a Hometown Vibe. \nWe will be set up in a shed at 113 Williams Blvd\, Fairfax\, IA from 10-4 with information regarding Lyme Disease. We will have some swag and some painted/decorative flower pots for sale. During this event most of the flower pots will come planted with an aloe plant in them. \nWe will be sharing a shed with Kerri at Sunrise Nutrition\, she will have her delicious teas\, and I will have some paintings from Gabby Davis – Monarch Artistry. These painting are amazing. \nThis event will have many vendors set up in sheds\, selling their own products. It is always a great time. \nWe look forward to seeing you.
URL:https://tickedofflymefdn.com/event/stroll-the-boulevard/
LOCATION:Buidlings on the Blvd.\, 113 Williams Blvd.\, Fairfax\, IA\, 52228\, United States
ORGANIZER;CN="Ticked Off Lyme Foundaton":MAILTO:tickedofflymefoundation@outlook.com
END:VEVENT
END:VCALENDAR