BEGIN:VCALENDAR
VERSION:2.0
PRODID:-//Ticked Off Lyme Foundation Inc. - ECPv6.14.2//NONSGML v1.0//EN
CALSCALE:GREGORIAN
METHOD:PUBLISH
X-WR-CALNAME:Ticked Off Lyme Foundation Inc.
X-ORIGINAL-URL:https://tickedofflymefdn.com
X-WR-CALDESC:Events for Ticked Off Lyme Foundation Inc.
REFRESH-INTERVAL;VALUE=DURATION:PT1H
X-Robots-Tag:noindex
X-PUBLISHED-TTL:PT1H
BEGIN:VTIMEZONE
TZID:America/Chicago
BEGIN:DAYLIGHT
TZOFFSETFROM:-0600
TZOFFSETTO:-0500
TZNAME:CDT
DTSTART:20260308T080000
END:DAYLIGHT
BEGIN:STANDARD
TZOFFSETFROM:-0500
TZOFFSETTO:-0600
TZNAME:CST
DTSTART:20261101T070000
END:STANDARD
END:VTIMEZONE
BEGIN:VEVENT
DTSTART;TZID=America/Chicago:20261003T100000
DTEND;TZID=America/Chicago:20261003T120000
DTSTAMP:20260424T091854
CREATED:20260316T173053Z
LAST-MODIFIED:20260316T173053Z
UID:1097-1791021600-1791028800@tickedofflymefdn.com
SUMMARY:Support Group
DESCRIPTION:Join us for more excited information. \nWe will be joined by Jennifer Crystal\, the author of One Tick Stopped the Clock. Jennifer is a Lyme warrior and will share her story\, listen to yours and we will all learn from each other.
URL:https://tickedofflymefdn.com/event/support-group-3/
LOCATION:LADD Library\, 3750 Williams Blvd SW\, Cedar Rapids\, IA\, 52404\, United States
END:VEVENT
END:VCALENDAR